BEGIN:VCALENDAR
VERSION:2.0
PRODID:-//Imkerverein Kleinostheim - ECPv6.15.20//NONSGML v1.0//EN
CALSCALE:GREGORIAN
METHOD:PUBLISH
X-ORIGINAL-URL:https://imker-kleinostheim.de
X-WR-CALDESC:Veranstaltungen für Imkerverein Kleinostheim
REFRESH-INTERVAL;VALUE=DURATION:PT1H
X-Robots-Tag:noindex
X-PUBLISHED-TTL:PT1H
BEGIN:VTIMEZONE
TZID:Europe/Berlin
BEGIN:DAYLIGHT
TZOFFSETFROM:+0100
TZOFFSETTO:+0200
TZNAME:CEST
DTSTART:20240331T010000
END:DAYLIGHT
BEGIN:STANDARD
TZOFFSETFROM:+0200
TZOFFSETTO:+0100
TZNAME:CET
DTSTART:20241027T010000
END:STANDARD
BEGIN:DAYLIGHT
TZOFFSETFROM:+0100
TZOFFSETTO:+0200
TZNAME:CEST
DTSTART:20250330T010000
END:DAYLIGHT
BEGIN:STANDARD
TZOFFSETFROM:+0200
TZOFFSETTO:+0100
TZNAME:CET
DTSTART:20251026T010000
END:STANDARD
BEGIN:DAYLIGHT
TZOFFSETFROM:+0100
TZOFFSETTO:+0200
TZNAME:CEST
DTSTART:20260329T010000
END:DAYLIGHT
BEGIN:STANDARD
TZOFFSETFROM:+0200
TZOFFSETTO:+0100
TZNAME:CET
DTSTART:20261025T010000
END:STANDARD
END:VTIMEZONE
BEGIN:VEVENT
DTSTART;TZID=Europe/Berlin:20251213T160000
DTEND;TZID=Europe/Berlin:20251213T220000
DTSTAMP:20260425T171550
CREATED:20251030T091133Z
LAST-MODIFIED:20251206T111005Z
UID:1213-1765641600-1765663200@imker-kleinostheim.de
SUMMARY:1. Honigsüßer Adventsmarkt
DESCRIPTION:Weihnachtsmarkt im Bienenzuchtverein\nDer erste honigsüße Adventsmarkt öffnet um 16:00 Uhr am 13.12.2025 und wird unser Vereinsgelände in einen Ort voller Lichter\, Genussmomente und Inspiration verwandeln\, \nEs wartet auf Sie ein adventlicher Abend mit weihnachtlicher Musik\, winterlichen Getränken und Speisen\, Kinderaktionen\, Tombola sowie regionalen Austellern mit weihnachtlichen Dekorationen\, Spezialitäten und Handwerkskunst. \nDer Eintritt ist frei – Hunde sind an der Leine zu führen – Kinder sind zu beaufsichtigen \nHier könnt ihr dazu Infos und Werbematerial downloaden. Es würde uns unterstützen\, wenn jeder Interessierte ein Plakat ausdruckt und im eigenen Fenster aushängt! \nDas Plakat zum 1. Honigsüßen Adventsmarkt \n  \nDie beiden Seiten des aktuellen Flyers mit Ausschnitt des Ausstellerverzeichnisses:\nAußenseite Vereinsflyer 1. Honigsüßer Adventsmarkt\nInnenseite Vereinsflyer 1. Honigsüßer Adventsmarkt \n 
URL:https://imker-kleinostheim.de/termin/1-honigsuesser-adventsmarkt/
LOCATION:Lehrbienenstand Kleinostheim\, Dreizehnmorgenweg 10\, Kleinostheim\, Bayern\, 63801\, Deutschland
CATEGORIES:öffentliche Veranstaltung
END:VEVENT
END:VCALENDAR