BEGIN:VCALENDAR
VERSION:2.0
PRODID:-//Imkerverein Kleinostheim - ECPv6.15.20//NONSGML v1.0//EN
CALSCALE:GREGORIAN
METHOD:PUBLISH
X-ORIGINAL-URL:https://imker-kleinostheim.de
X-WR-CALDESC:Veranstaltungen für Imkerverein Kleinostheim
REFRESH-INTERVAL;VALUE=DURATION:PT1H
X-Robots-Tag:noindex
X-PUBLISHED-TTL:PT1H
BEGIN:VTIMEZONE
TZID:Europe/Berlin
BEGIN:DAYLIGHT
TZOFFSETFROM:+0100
TZOFFSETTO:+0200
TZNAME:CEST
DTSTART:20250330T010000
END:DAYLIGHT
BEGIN:STANDARD
TZOFFSETFROM:+0200
TZOFFSETTO:+0100
TZNAME:CET
DTSTART:20251026T010000
END:STANDARD
BEGIN:DAYLIGHT
TZOFFSETFROM:+0100
TZOFFSETTO:+0200
TZNAME:CEST
DTSTART:20260329T010000
END:DAYLIGHT
BEGIN:STANDARD
TZOFFSETFROM:+0200
TZOFFSETTO:+0100
TZNAME:CET
DTSTART:20261025T010000
END:STANDARD
BEGIN:DAYLIGHT
TZOFFSETFROM:+0100
TZOFFSETTO:+0200
TZNAME:CEST
DTSTART:20270328T010000
END:DAYLIGHT
BEGIN:STANDARD
TZOFFSETFROM:+0200
TZOFFSETTO:+0100
TZNAME:CET
DTSTART:20271031T010000
END:STANDARD
END:VTIMEZONE
BEGIN:VEVENT
DTSTART;TZID=Europe/Berlin:20260426T100000
DTEND;TZID=Europe/Berlin:20260426T120000
DTSTAMP:20260420T053041
CREATED:20251219T212237Z
LAST-MODIFIED:20260419T172653Z
UID:1257-1777197600-1777204800@imker-kleinostheim.de
SUMMARY:Imker-auf-Probe IaP-Pr03 Schwarmkontrolle\, Ablegerbildung für Königinnenzucht
DESCRIPTION:Im Mai wird unser vorrangiges Ziel sein\, die aufkommende Schwarmneigung frühzeitig zu erkennen. Außerdem gilt es die aufstrebende Entwicklung im Bienenvolk möglichst optimal zu unterstützen bzw. mit unseren Eingriffen wie der Erweiterung des Honigraum oder dem Schröpfen zu lenken. \nAls Vorbereitung für den Umlarvtermin am 3.5. werden wir einen Sammelbrutableger erstellen. Wer Interesse an guten Königinnen hat und sich eventuell noch unsicher bei der Zucht ist\, kann bei den Terminen am 26.4. und 3.5. vorbeikommen.
URL:https://imker-kleinostheim.de/termin/imker-auf-probe-iap-pr03/
LOCATION:Lehrbienenstand Kleinostheim\, Dreizehnmorgenweg 10\, Kleinostheim\, Bayern\, 63801\, Deutschland
CATEGORIES:Imker-auf-Probe
END:VEVENT
END:VCALENDAR